BEGIN:VCALENDAR
VERSION:2.0
PRODID:-//Kolpingsfamilie Bad Kreuznach - ECPv6.10.2//NONSGML v1.0//EN
CALSCALE:GREGORIAN
METHOD:PUBLISH
X-ORIGINAL-URL:https://kolping-kreuznach.de
X-WR-CALDESC:Veranstaltungen für Kolpingsfamilie Bad Kreuznach
REFRESH-INTERVAL;VALUE=DURATION:PT1H
X-Robots-Tag:noindex
X-PUBLISHED-TTL:PT1H
BEGIN:VTIMEZONE
TZID:Europe/Berlin
BEGIN:DAYLIGHT
TZOFFSETFROM:+0100
TZOFFSETTO:+0200
TZNAME:CEST
DTSTART:20250330T010000
END:DAYLIGHT
BEGIN:STANDARD
TZOFFSETFROM:+0200
TZOFFSETTO:+0100
TZNAME:CET
DTSTART:20251026T010000
END:STANDARD
END:VTIMEZONE
BEGIN:VEVENT
DTSTART;TZID=Europe/Berlin:20251209T193000
DTEND;TZID=Europe/Berlin:20251209T213000
DTSTAMP:20260424T102005
CREATED:20250618T115853Z
LAST-MODIFIED:20250618T115853Z
UID:2433-1765308600-1765315800@kolping-kreuznach.de
SUMMARY:Man(n) sieht sich
DESCRIPTION:Programm wird rechtzeitig bekannt gegeben.
URL:https://kolping-kreuznach.de/event/mann-sieht-sich-47/
LOCATION:Kolpinghaus Bad Kreuznach
END:VEVENT
END:VCALENDAR